BEGIN:VCALENDAR
VERSION:2.0
PRODID:-//Goodwood Kartways - ECPv4.9.2//NONSGML v1.0//EN
CALSCALE:GREGORIAN
METHOD:PUBLISH
X-WR-CALNAME:Goodwood Kartways
X-ORIGINAL-URL:https://goodwoodkartways.com
X-WR-CALDESC:Events for Goodwood Kartways
BEGIN:VEVENT
DTSTART;TZID=America/Toronto:20250716T183000
DTEND;TZID=America/Toronto:20250716T200000
DTSTAMP:20260420T112046
CREATED:20250602T181945Z
LAST-MODIFIED:20250602T182817Z
UID:17381-1752690600-1752696000@goodwoodkartways.com
SUMMARY:Private Event
DESCRIPTION:Private Event 6:30PM-8PM \n
URL:https://goodwoodkartways.com/event/17381/
CATEGORIES:6. PRIVATE GROUP EVENT
END:VEVENT
END:VCALENDAR