BEGIN:VCALENDAR
VERSION:2.0
PRODID:-//Goodwood Kartways - ECPv4.9.2//NONSGML v1.0//EN
CALSCALE:GREGORIAN
METHOD:PUBLISH
X-WR-CALNAME:Goodwood Kartways
X-ORIGINAL-URL:https://goodwoodkartways.com
X-WR-CALDESC:Events for Goodwood Kartways
BEGIN:VEVENT
DTSTART;TZID=UTC+0:20240508T140000
DTEND;TZID=UTC+0:20240508T160000
DTSTAMP:20260425T111629
CREATED:20240429T153930Z
LAST-MODIFIED:20240429T160256Z
UID:16290-1715176800-1715184000@goodwoodkartways.com
SUMMARY:CRKC - Training 1
DESCRIPTION:Arrive & Drive Private Lesson – Session 1 \nFor pre-registered drivers ONLY. Please call 905.640.5278 or email stefanie@goodwoodkartways.com to reserve your spot! \n
URL:https://goodwoodkartways.com/event/arrive-drive-private-lesson-session-1-3-2/
CATEGORIES:1. ARRIVE/DRIVE RACING
END:VEVENT
END:VCALENDAR