BEGIN:VCALENDAR
VERSION:2.0
PRODID:-//Goodwood Kartways - ECPv4.9.2//NONSGML v1.0//EN
CALSCALE:GREGORIAN
METHOD:PUBLISH
X-WR-CALNAME:Goodwood Kartways
X-ORIGINAL-URL:https://goodwoodkartways.com
X-WR-CALDESC:Events for Goodwood Kartways
BEGIN:VEVENT
DTSTART;TZID=UTC+0:20250618T170000
DTEND;TZID=UTC+0:20250618T190000
DTSTAMP:20260421T014517
CREATED:20250519T185808Z
LAST-MODIFIED:20250519T185808Z
UID:17351-1750266000-1750273200@goodwoodkartways.com
SUMMARY:Arrive & Drive Private Lesson - Session 5
DESCRIPTION:Arrive & Drive Private Lesson – Session 5 \nFor pre-registered drivers ONLY. Please call 905.640.5278 or email stefanie@goodwoodkartways.com to reserve your spot! \n
URL:https://goodwoodkartways.com/event/arrive-drive-private-lesson-session-1-3-3-2-2-2-2/
CATEGORIES:1. ARRIVE/DRIVE RACING
END:VEVENT
END:VCALENDAR