BEGIN:VCALENDAR
VERSION:2.0
PRODID:-//Goodwood Kartways - ECPv4.9.2//NONSGML v1.0//EN
CALSCALE:GREGORIAN
METHOD:PUBLISH
X-WR-CALNAME:Goodwood Kartways
X-ORIGINAL-URL:https://goodwoodkartways.com
X-WR-CALDESC:Events for Goodwood Kartways
BEGIN:VEVENT
DTSTART;TZID=UTC+0:20241010T160000
DTEND;TZID=UTC+0:20241010T180000
DTSTAMP:20260421T085924
CREATED:20240822T170411Z
LAST-MODIFIED:20240822T170411Z
UID:16701-1728576000-1728583200@goodwoodkartways.com
SUMMARY:CRKC '2-STROKE LAPPING' - Session 2
DESCRIPTION:CRKC ‘2-Stroke Lapping’ Session 2 : 4pm-6pm \nBy reservation only; please call 905.640.5278 \n
URL:https://goodwoodkartways.com/event/crkc-2-stroke-lapping-session-1-2-2-2/
LOCATION:Goodwood Kartways\, 5200 Concession 2 Road\, Whitchurch-Stouffville\, Ontario\, L4A 7X4\, Canada
CATEGORIES:1. ARRIVE/DRIVE RACING
END:VEVENT
END:VCALENDAR