BEGIN:VCALENDAR
VERSION:2.0
PRODID:-//Goodwood Kartways - ECPv4.9.2//NONSGML v1.0//EN
CALSCALE:GREGORIAN
METHOD:PUBLISH
X-WR-CALNAME:Goodwood Kartways
X-ORIGINAL-URL:https://goodwoodkartways.com
X-WR-CALDESC:Events for Goodwood Kartways
BEGIN:VEVENT
DTSTART;TZID=UTC+0:20250511T100000
DTEND;TZID=UTC+0:20250511T133000
DTSTAMP:20260420T174004
CREATED:20250218T174856Z
LAST-MODIFIED:20250505T153017Z
UID:17008-1746957600-1746970200@goodwoodkartways.com
SUMMARY:CRKC - Exhibition
DESCRIPTION:Schedule 6 – Sunday (AM) \nTime: 10:00am – 1:30pm\nEvent: Exhibition Race\nRegistration: 9:15am\nPractice: 10:00am – 10:45am\nIn-class Training: 10:45pm-11:15am\nExhibition Racing: 11:15am – 1:30pm \nClick HERE for full Event Details \n
URL:https://goodwoodkartways.com/event/crkc-exhibition-43-2-2/
LOCATION:Goodwood Kartways\, 5200 Concession 2 Road\, Whitchurch-Stouffville\, Ontario\, L4A 7X4\, Canada
CATEGORIES:1. ARRIVE/DRIVE RACING
END:VEVENT
END:VCALENDAR