BEGIN:VCALENDAR
VERSION:2.0
PRODID:-//Goodwood Kartways - ECPv4.9.2//NONSGML v1.0//EN
CALSCALE:GREGORIAN
METHOD:PUBLISH
X-WR-CALNAME:Goodwood Kartways
X-ORIGINAL-URL:https://goodwoodkartways.com
X-WR-CALDESC:Events for Goodwood Kartways
BEGIN:VEVENT
DTSTART;TZID=UTC+0:20250504T100000
DTEND;TZID=UTC+0:20250504T133000
DTSTAMP:20260420T194432
CREATED:20250218T174243Z
LAST-MODIFIED:20250218T174243Z
UID:17000-1746352800-1746365400@goodwoodkartways.com
SUMMARY:CRKC - Training
DESCRIPTION:Schedule 6 – Sunday (AM)\nEvent: Training\nRegistration: 9:30am\nPractice: 10:00am – 11:30am\nTraining: 11:45am – 1:30pm \n
URL:https://goodwoodkartways.com/event/crkc-training-37-2-2-2-2-2-2-3/
LOCATION:Goodwood Kartways\, 5200 Concession 2 Road\, Whitchurch-Stouffville\, Ontario\, L4A 7X4\, Canada
CATEGORIES:1. ARRIVE/DRIVE RACING
END:VEVENT
END:VCALENDAR