BEGIN:VCALENDAR
VERSION:2.0
PRODID:-//Goodwood Kartways - ECPv4.9.2//NONSGML v1.0//EN
CALSCALE:GREGORIAN
METHOD:PUBLISH
X-WR-CALNAME:Goodwood Kartways
X-ORIGINAL-URL:https://goodwoodkartways.com
X-WR-CALDESC:Events for Goodwood Kartways
BEGIN:VEVENT
DTSTART;TZID=America/Toronto:20240920T100000
DTEND;TZID=America/Toronto:20240920T113000
DTSTAMP:20260421T175109
CREATED:20240527T180742Z
LAST-MODIFIED:20240527T180742Z
UID:16450-1726826400-1726831800@goodwoodkartways.com
SUMMARY:Private Event
DESCRIPTION:Private Event 10AM-11:30AM \n
URL:https://goodwoodkartways.com/event/group-event-667-2/
CATEGORIES:6. PRIVATE GROUP EVENT
END:VEVENT
END:VCALENDAR