BEGIN:VCALENDAR
VERSION:2.0
PRODID:-//Goodwood Kartways - ECPv4.9.2//NONSGML v1.0//EN
CALSCALE:GREGORIAN
METHOD:PUBLISH
X-WR-CALNAME:Goodwood Kartways
X-ORIGINAL-URL:https://goodwoodkartways.com
X-WR-CALDESC:Events for Goodwood Kartways
BEGIN:VEVENT
DTSTART;TZID=America/Toronto:20240920T160000
DTEND;TZID=America/Toronto:20240920T160000
DTSTAMP:20260421T175011
CREATED:20240903T011546Z
LAST-MODIFIED:20240903T011546Z
UID:16732-1726848000-1726848000@goodwoodkartways.com
SUMMARY:Group Event
DESCRIPTION:Group Event 4PM \n
URL:https://goodwoodkartways.com/event/group-event-676/
END:VEVENT
END:VCALENDAR