BEGIN:VCALENDAR
VERSION:2.0
PRODID:-//Goodwood Kartways - ECPv4.9.2//NONSGML v1.0//EN
CALSCALE:GREGORIAN
METHOD:PUBLISH
X-WR-CALNAME:Goodwood Kartways
X-ORIGINAL-URL:https://goodwoodkartways.com
X-WR-CALDESC:Events for Goodwood Kartways
BEGIN:VEVENT
DTSTART;TZID=America/Toronto:20240717T180000
DTEND;TZID=America/Toronto:20240717T180000
DTSTAMP:20260425T030743
CREATED:20240715T135543Z
LAST-MODIFIED:20240715T135543Z
UID:16606-1721239200-1721239200@goodwoodkartways.com
SUMMARY:Group Event
DESCRIPTION:Group Event 6PM \n
URL:https://goodwoodkartways.com/event/group-event-682/
END:VEVENT
END:VCALENDAR