BEGIN:VCALENDAR
VERSION:2.0
PRODID:-//Goodwood Kartways - ECPv4.9.2//NONSGML v1.0//EN
CALSCALE:GREGORIAN
METHOD:PUBLISH
X-WR-CALNAME:Goodwood Kartways
X-ORIGINAL-URL:https://goodwoodkartways.com
X-WR-CALDESC:Events for Goodwood Kartways
BEGIN:VEVENT
DTSTART;TZID=America/Toronto:20241003T170000
DTEND;TZID=America/Toronto:20241003T170000
DTSTAMP:20260425T135516
CREATED:20240915T161943Z
LAST-MODIFIED:20240915T161943Z
UID:16761-1727974800-1727974800@goodwoodkartways.com
SUMMARY:Group Event
DESCRIPTION:Group Event 5PM \n
URL:https://goodwoodkartways.com/event/group-event-688-2/
END:VEVENT
END:VCALENDAR