BEGIN:VCALENDAR
VERSION:2.0
PRODID:-//Goodwood Kartways - ECPv4.9.2//NONSGML v1.0//EN
CALSCALE:GREGORIAN
METHOD:PUBLISH
X-WR-CALNAME:Goodwood Kartways
X-ORIGINAL-URL:https://goodwoodkartways.com
X-WR-CALDESC:Events for Goodwood Kartways
BEGIN:VEVENT
DTSTART;TZID=America/Toronto:20240923T110000
DTEND;TZID=America/Toronto:20240923T110000
DTSTAMP:20260421T193138
CREATED:20240918T203359Z
LAST-MODIFIED:20240918T203359Z
UID:16774-1727089200-1727089200@goodwoodkartways.com
SUMMARY:Group Event
DESCRIPTION:Group Event 11AM \n
URL:https://goodwoodkartways.com/event/group-event-690/
END:VEVENT
END:VCALENDAR