BEGIN:VCALENDAR
VERSION:2.0
PRODID:-//Goodwood Kartways - ECPv4.9.2//NONSGML v1.0//EN
CALSCALE:GREGORIAN
METHOD:PUBLISH
X-WR-CALNAME:Goodwood Kartways
X-ORIGINAL-URL:https://goodwoodkartways.com
X-WR-CALDESC:Events for Goodwood Kartways
BEGIN:VEVENT
DTSTART;TZID=America/Toronto:20240929T090000
DTEND;TZID=America/Toronto:20240929T100000
DTSTAMP:20260421T222700
CREATED:20240926T143013Z
LAST-MODIFIED:20240926T143013Z
UID:16782-1727600400-1727604000@goodwoodkartways.com
SUMMARY:Private Event
DESCRIPTION:Private Event 9AM-10AM \n
URL:https://goodwoodkartways.com/event/group-event-691-2-2-2/
CATEGORIES:6. PRIVATE GROUP EVENT
END:VEVENT
END:VCALENDAR