BEGIN:VCALENDAR
VERSION:2.0
PRODID:-//Goodwood Kartways - ECPv4.9.2//NONSGML v1.0//EN
CALSCALE:GREGORIAN
METHOD:PUBLISH
X-WR-CALNAME:Goodwood Kartways
X-ORIGINAL-URL:https://goodwoodkartways.com
X-WR-CALDESC:Events for Goodwood Kartways
BEGIN:VEVENT
DTSTART;VALUE=DATE:20240928
DTEND;VALUE=DATE:20240929
DTSTAMP:20260421T210148
CREATED:20240211T172947Z
LAST-MODIFIED:20240914T053627Z
UID:16009-1727481600-1727567999@goodwoodkartways.com
SUMMARY:KartStars Canada Finale 'Night Race'
DESCRIPTION:Click HERE for KartStars Finale Event Details. \n  \n
URL:https://goodwoodkartways.com/event/kartstars-canada-finale-night-race-2/
LOCATION:Goodwood Kartways\, 5200 Concession 2 Road\, Whitchurch-Stouffville\, Ontario\, L4A 7X4\, Canada
CATEGORIES:4. KART OWNER LAPPING
ATTACH;FMTTYPE=image/jpeg:https://goodwoodkartways.com/wp-content/uploads/2019/12/KartStars-Canada_Final_13122019-1024x853.jpg
END:VEVENT
END:VCALENDAR