BEGIN:VCALENDAR
VERSION:2.0
PRODID:-//Goodwood Kartways - ECPv4.9.2//NONSGML v1.0//EN
CALSCALE:GREGORIAN
METHOD:PUBLISH
X-WR-CALNAME:Goodwood Kartways
X-ORIGINAL-URL:https://goodwoodkartways.com
X-WR-CALDESC:Events for Goodwood Kartways
BEGIN:VEVENT
DTSTART;TZID=UTC+0:20240927T100000
DTEND;TZID=UTC+0:20240927T170000
DTSTAMP:20260421T035223
CREATED:20240313T000412Z
LAST-MODIFIED:20240313T000412Z
UID:16148-1727431200-1727456400@goodwoodkartways.com
SUMMARY:KartStars Canada Finale - Practice
DESCRIPTION:Click HERE for full Details. \n  \n
URL:https://goodwoodkartways.com/event/kartstars-canada-round-1-practice-4-2/
LOCATION:Goodwood Kartways\, 5200 Concession 2 Road\, Whitchurch-Stouffville\, Ontario\, L4A 7X4\, Canada
CATEGORIES:4. KART OWNER LAPPING
ATTACH;FMTTYPE=image/jpeg:https://goodwoodkartways.com/wp-content/uploads/2019/12/KartStars-Canada_Final_13122019-1024x853.jpg
END:VEVENT
END:VCALENDAR