BEGIN:VCALENDAR
VERSION:2.0
PRODID:-//Goodwood Kartways - ECPv4.9.2//NONSGML v1.0//EN
CALSCALE:GREGORIAN
METHOD:PUBLISH
X-WR-CALNAME:Goodwood Kartways
X-ORIGINAL-URL:https://goodwoodkartways.com
X-WR-CALDESC:Events for Goodwood Kartways
BEGIN:VEVENT
DTSTART;TZID=UTC+0:20260829T090000
DTEND;TZID=UTC+0:20260829T140000
DTSTAMP:20260421T095321
CREATED:20260225T184415Z
LAST-MODIFIED:20260225T184440Z
UID:17919-1787994000-1788012000@goodwoodkartways.com
SUMMARY:Kid Kart Race 5
DESCRIPTION:Kid Kart Race 5 \nDedicated instructor led lapping session for Goodwood Kartways Kid Kart Members. Age ranging from 3-7 years. \nContact daniel@goodwoodkartways.com to enroll your son/daughter today. \nClick HERE for Kid Kart Race 5 Details \n  \n  \n
URL:https://goodwoodkartways.com/event/kid-kart-race-1-2-3-3-2-2-2/
CATEGORIES:7. SPECIAL EVENTS
END:VEVENT
END:VCALENDAR