BEGIN:VCALENDAR
VERSION:2.0
PRODID:-//Goodwood Kartways - ECPv4.9.2//NONSGML v1.0//EN
CALSCALE:GREGORIAN
METHOD:PUBLISH
X-WR-CALNAME:Goodwood Kartways
X-ORIGINAL-URL:https://goodwoodkartways.com
X-WR-CALDESC:Events for Goodwood Kartways
BEGIN:VEVENT
DTSTART;TZID=America/Toronto:20250622T130000
DTEND;TZID=America/Toronto:20250622T143000
DTSTAMP:20260420T223737
CREATED:20250618T152555Z
LAST-MODIFIED:20250618T152555Z
UID:17415-1750597200-1750602600@goodwoodkartways.com
SUMMARY:Private Event
DESCRIPTION:Private Event 1PM-2:30PM \n
URL:https://goodwoodkartways.com/event/private-event-1008/
CATEGORIES:6. PRIVATE GROUP EVENT
END:VEVENT
END:VCALENDAR