BEGIN:VCALENDAR
VERSION:2.0
PRODID:-//Goodwood Kartways - ECPv4.9.2//NONSGML v1.0//EN
CALSCALE:GREGORIAN
METHOD:PUBLISH
X-WR-CALNAME:Goodwood Kartways
X-ORIGINAL-URL:https://goodwoodkartways.com
X-WR-CALDESC:Events for Goodwood Kartways
BEGIN:VEVENT
DTSTART;TZID=America/Toronto:20250726T160000
DTEND;TZID=America/Toronto:20250726T173000
DTSTAMP:20260420T051341
CREATED:20250704T151309Z
LAST-MODIFIED:20250704T151309Z
UID:17451-1753545600-1753551000@goodwoodkartways.com
SUMMARY:Private Event
DESCRIPTION:Private Event 4:00PM-5:30PM \n
URL:https://goodwoodkartways.com/event/private-event-1014-2-2/
CATEGORIES:6. PRIVATE GROUP EVENT
END:VEVENT
END:VCALENDAR