BEGIN:VCALENDAR
VERSION:2.0
PRODID:-//Goodwood Kartways - ECPv4.9.2//NONSGML v1.0//EN
CALSCALE:GREGORIAN
METHOD:PUBLISH
X-WR-CALNAME:Goodwood Kartways
X-ORIGINAL-URL:https://goodwoodkartways.com
X-WR-CALDESC:Events for Goodwood Kartways
BEGIN:VEVENT
DTSTART;TZID=America/Toronto:20250926T133000
DTEND;TZID=America/Toronto:20250926T150000
DTSTAMP:20260423T095410
CREATED:20250911T152501Z
LAST-MODIFIED:20250911T152501Z
UID:17614-1758893400-1758898800@goodwoodkartways.com
SUMMARY:Private Event
DESCRIPTION:Private Event 1:30-3PM \n
URL:https://goodwoodkartways.com/event/private-event-1038/
CATEGORIES:6. PRIVATE GROUP EVENT
END:VEVENT
END:VCALENDAR