BEGIN:VCALENDAR
VERSION:2.0
PRODID:-//Goodwood Kartways - ECPv4.9.2//NONSGML v1.0//EN
CALSCALE:GREGORIAN
METHOD:PUBLISH
X-WR-CALNAME:Goodwood Kartways
X-ORIGINAL-URL:https://goodwoodkartways.com
X-WR-CALDESC:Events for Goodwood Kartways
BEGIN:VEVENT
DTSTART;TZID=America/Toronto:20260610T133000
DTEND;TZID=America/Toronto:20260610T153000
DTSTAMP:20260421T003358
CREATED:20260420T194437Z
LAST-MODIFIED:20260420T194437Z
UID:18029-1781098200-1781105400@goodwoodkartways.com
SUMMARY:Private Event
DESCRIPTION:Private Event 1:30PM-3:30PM \n
URL:https://goodwoodkartways.com/event/private-event-1063/
CATEGORIES:6. PRIVATE GROUP EVENT
END:VEVENT
END:VCALENDAR