BEGIN:VCALENDAR
VERSION:2.0
PRODID:-//Goodwood Kartways - ECPv4.9.2//NONSGML v1.0//EN
CALSCALE:GREGORIAN
METHOD:PUBLISH
X-WR-CALNAME:Goodwood Kartways
X-ORIGINAL-URL:https://goodwoodkartways.com
X-WR-CALDESC:Events for Goodwood Kartways
BEGIN:VEVENT
DTSTART;TZID=America/Toronto:20260530T173000
DTEND;TZID=America/Toronto:20260530T190000
DTSTAMP:20260421T012242
CREATED:20260420T195758Z
LAST-MODIFIED:20260420T200003Z
UID:18030-1780162200-1780167600@goodwoodkartways.com
SUMMARY:Private Event
DESCRIPTION:Private Event 5:30-7PM \n
URL:https://goodwoodkartways.com/event/private-event-1064/
CATEGORIES:6. PRIVATE GROUP EVENT
END:VEVENT
END:VCALENDAR