BEGIN:VCALENDAR
VERSION:2.0
PRODID:-//Goodwood Kartways - ECPv4.9.2//NONSGML v1.0//EN
CALSCALE:GREGORIAN
METHOD:PUBLISH
X-WR-CALNAME:Goodwood Kartways
X-ORIGINAL-URL:https://goodwoodkartways.com
X-WR-CALDESC:Events for Goodwood Kartways
BEGIN:VEVENT
DTSTART;TZID=UTC+0:20231012T103000
DTEND;TZID=UTC+0:20231012T120000
DTSTAMP:20260425T172536
CREATED:20231005T202514Z
LAST-MODIFIED:20231005T202514Z
UID:15408-1697106600-1697112000@goodwoodkartways.com
SUMMARY:Private Event
DESCRIPTION:Private Event 10:30AM-12PM \n
URL:https://goodwoodkartways.com/event/private-event-890/
CATEGORIES:6. PRIVATE GROUP EVENT
END:VEVENT
END:VCALENDAR