BEGIN:VCALENDAR
VERSION:2.0
PRODID:-//Goodwood Kartways - ECPv4.9.2//NONSGML v1.0//EN
CALSCALE:GREGORIAN
METHOD:PUBLISH
X-WR-CALNAME:Goodwood Kartways
X-ORIGINAL-URL:https://goodwoodkartways.com
X-WR-CALDESC:Events for Goodwood Kartways
BEGIN:VEVENT
DTSTART;TZID=America/Toronto:20240929T163000
DTEND;TZID=America/Toronto:20240929T180000
DTSTAMP:20260422T052952
CREATED:20240312T235955Z
LAST-MODIFIED:20240312T235955Z
UID:16140-1727627400-1727632800@goodwoodkartways.com
SUMMARY:Private Event
DESCRIPTION:Private Event 4:30PM-6PM \n
URL:https://goodwoodkartways.com/event/private-event-895-2-2-2-2-2-2-2-2-2-2-2-2-2-2-2-2/
CATEGORIES:6. PRIVATE GROUP EVENT
END:VEVENT
END:VCALENDAR