BEGIN:VCALENDAR
VERSION:2.0
PRODID:-//Goodwood Kartways - ECPv4.9.2//NONSGML v1.0//EN
CALSCALE:GREGORIAN
METHOD:PUBLISH
X-WR-CALNAME:Goodwood Kartways
X-ORIGINAL-URL:https://goodwoodkartways.com
X-WR-CALDESC:Events for Goodwood Kartways
BEGIN:VEVENT
DTSTART;TZID=America/Toronto:20240609T140000
DTEND;TZID=America/Toronto:20240609T153000
DTSTAMP:20260425T210451
CREATED:20240501T171556Z
LAST-MODIFIED:20240501T171556Z
UID:16338-1717941600-1717947000@goodwoodkartways.com
SUMMARY:Private Event
DESCRIPTION:Private Event 2PM-3:30PM \n
URL:https://goodwoodkartways.com/event/private-event-907-3-2/
CATEGORIES:6. PRIVATE GROUP EVENT
END:VEVENT
END:VCALENDAR