BEGIN:VCALENDAR
VERSION:2.0
PRODID:-//Goodwood Kartways - ECPv4.9.2//NONSGML v1.0//EN
CALSCALE:GREGORIAN
METHOD:PUBLISH
X-WR-CALNAME:Goodwood Kartways
X-ORIGINAL-URL:https://goodwoodkartways.com
X-WR-CALDESC:Events for Goodwood Kartways
BEGIN:VEVENT
DTSTART;TZID=America/Toronto:20240828T133000
DTEND;TZID=America/Toronto:20240828T150000
DTSTAMP:20260421T182910
CREATED:20240501T171524Z
LAST-MODIFIED:20240501T171524Z
UID:16337-1724851800-1724857200@goodwoodkartways.com
SUMMARY:Private Event
DESCRIPTION:Private Event 1:30PM-3PM \n
URL:https://goodwoodkartways.com/event/private-event-907-3/
CATEGORIES:6. PRIVATE GROUP EVENT
END:VEVENT
END:VCALENDAR