BEGIN:VCALENDAR
VERSION:2.0
PRODID:-//Goodwood Kartways - ECPv4.9.2//NONSGML v1.0//EN
CALSCALE:GREGORIAN
METHOD:PUBLISH
X-WR-CALNAME:Goodwood Kartways
X-ORIGINAL-URL:https://goodwoodkartways.com
X-WR-CALDESC:Events for Goodwood Kartways
BEGIN:VEVENT
DTSTART;TZID=America/Toronto:20240606T133000
DTEND;TZID=America/Toronto:20240606T160000
DTSTAMP:20260425T124247
CREATED:20240508T182055Z
LAST-MODIFIED:20240508T182055Z
UID:16381-1717680600-1717689600@goodwoodkartways.com
SUMMARY:Private Event
DESCRIPTION:Private Event 1:30PM-4PM \n
URL:https://goodwoodkartways.com/event/private-event-910-2/
CATEGORIES:6. PRIVATE GROUP EVENT
END:VEVENT
END:VCALENDAR