BEGIN:VCALENDAR
VERSION:2.0
PRODID:-//Goodwood Kartways - ECPv4.9.2//NONSGML v1.0//EN
CALSCALE:GREGORIAN
METHOD:PUBLISH
X-WR-CALNAME:Goodwood Kartways
X-ORIGINAL-URL:https://goodwoodkartways.com
X-WR-CALDESC:Events for Goodwood Kartways
BEGIN:VEVENT
DTSTART;TZID=America/Toronto:20240606T113000
DTEND;TZID=America/Toronto:20240606T130000
DTSTAMP:20260425T140923
CREATED:20240513T001120Z
LAST-MODIFIED:20240513T001120Z
UID:16394-1717673400-1717678800@goodwoodkartways.com
SUMMARY:Private Event
DESCRIPTION:Private Event 11:30AM-1PM \n
URL:https://goodwoodkartways.com/event/private-event-912/
CATEGORIES:6. PRIVATE GROUP EVENT
END:VEVENT
END:VCALENDAR