BEGIN:VCALENDAR
VERSION:2.0
PRODID:-//Goodwood Kartways - ECPv4.9.2//NONSGML v1.0//EN
CALSCALE:GREGORIAN
METHOD:PUBLISH
X-WR-CALNAME:Goodwood Kartways
X-ORIGINAL-URL:https://goodwoodkartways.com
X-WR-CALDESC:Events for Goodwood Kartways
BEGIN:VEVENT
DTSTART;TZID=America/Toronto:20240918T113000
DTEND;TZID=America/Toronto:20240918T113000
DTSTAMP:20260421T205332
CREATED:20240911T225550Z
LAST-MODIFIED:20240911T225550Z
UID:16751-1726659000-1726659000@goodwoodkartways.com
SUMMARY:Group Event
DESCRIPTION:Group Event 11:30AM \n
URL:https://goodwoodkartways.com/event/private-event-933-3-2-2/
END:VEVENT
END:VCALENDAR