BEGIN:VCALENDAR
VERSION:2.0
PRODID:-//Goodwood Kartways - ECPv4.9.2//NONSGML v1.0//EN
CALSCALE:GREGORIAN
METHOD:PUBLISH
X-WR-CALNAME:Goodwood Kartways
X-ORIGINAL-URL:https://goodwoodkartways.com
X-WR-CALDESC:Events for Goodwood Kartways
BEGIN:VEVENT
DTSTART;TZID=America/Toronto:20240913T180000
DTEND;TZID=America/Toronto:20240913T180000
DTSTAMP:20260426T005434
CREATED:20240911T225320Z
LAST-MODIFIED:20240913T083148Z
UID:16749-1726250400-1726250400@goodwoodkartways.com
SUMMARY:Group Event
DESCRIPTION:Group Event 6PM \n
URL:https://goodwoodkartways.com/event/private-event-933-3/
END:VEVENT
END:VCALENDAR