BEGIN:VCALENDAR
VERSION:2.0
PRODID:-//Goodwood Kartways - ECPv4.9.2//NONSGML v1.0//EN
CALSCALE:GREGORIAN
METHOD:PUBLISH
X-WR-CALNAME:Goodwood Kartways
X-ORIGINAL-URL:https://goodwoodkartways.com
X-WR-CALDESC:Events for Goodwood Kartways
BEGIN:VEVENT
DTSTART;TZID=America/Toronto:20240831T100000
DTEND;TZID=America/Toronto:20240831T113000
DTSTAMP:20260426T005000
CREATED:20240719T231510Z
LAST-MODIFIED:20240719T231510Z
UID:16630-1725098400-1725103800@goodwoodkartways.com
SUMMARY:Private Event
DESCRIPTION:Private Event 10AM-11:30AM \n
URL:https://goodwoodkartways.com/event/private-event-942-2/
CATEGORIES:6. PRIVATE GROUP EVENT
END:VEVENT
END:VCALENDAR