BEGIN:VCALENDAR
VERSION:2.0
PRODID:-//Goodwood Kartways - ECPv4.9.2//NONSGML v1.0//EN
CALSCALE:GREGORIAN
METHOD:PUBLISH
X-WR-CALNAME:Goodwood Kartways
X-ORIGINAL-URL:https://goodwoodkartways.com
X-WR-CALDESC:Events for Goodwood Kartways
BEGIN:VEVENT
DTSTART;TZID=America/Toronto:20240906T150000
DTEND;TZID=America/Toronto:20240906T163000
DTSTAMP:20260421T020121
CREATED:20240722T135119Z
LAST-MODIFIED:20240722T155515Z
UID:16632-1725634800-1725640200@goodwoodkartways.com
SUMMARY:Private Event
DESCRIPTION:Private Event 3PM-4:30PM \n
URL:https://goodwoodkartways.com/event/private-event-944/
CATEGORIES:6. PRIVATE GROUP EVENT
END:VEVENT
END:VCALENDAR