BEGIN:VCALENDAR
VERSION:2.0
PRODID:-//Goodwood Kartways - ECPv4.9.2//NONSGML v1.0//EN
CALSCALE:GREGORIAN
METHOD:PUBLISH
X-WR-CALNAME:Goodwood Kartways
X-ORIGINAL-URL:https://goodwoodkartways.com
X-WR-CALDESC:Events for Goodwood Kartways
BEGIN:VEVENT
DTSTART;TZID=America/Toronto:20240921T113000
DTEND;TZID=America/Toronto:20240921T130000
DTSTAMP:20260425T045322
CREATED:20240801T135739Z
LAST-MODIFIED:20240801T135739Z
UID:16660-1726918200-1726923600@goodwoodkartways.com
SUMMARY:Private Event
DESCRIPTION:Private Event 11:30AM-1PM \n
URL:https://goodwoodkartways.com/event/private-event-948-2-2/
CATEGORIES:6. PRIVATE GROUP EVENT
END:VEVENT
END:VCALENDAR