BEGIN:VCALENDAR
VERSION:2.0
PRODID:-//Goodwood Kartways - ECPv4.9.2//NONSGML v1.0//EN
CALSCALE:GREGORIAN
METHOD:PUBLISH
X-WR-CALNAME:Goodwood Kartways
X-ORIGINAL-URL:https://goodwoodkartways.com
X-WR-CALDESC:Events for Goodwood Kartways
BEGIN:VEVENT
DTSTART;TZID=America/Toronto:20241012T100000
DTEND;TZID=America/Toronto:20241012T120000
DTSTAMP:20260421T111257
CREATED:20241003T173427Z
LAST-MODIFIED:20241003T173427Z
UID:16811-1728727200-1728734400@goodwoodkartways.com
SUMMARY:Private Event
DESCRIPTION:Private Event 10AM-12PM \n
URL:https://goodwoodkartways.com/event/private-event-966/
CATEGORIES:6. PRIVATE GROUP EVENT
END:VEVENT
END:VCALENDAR