BEGIN:VCALENDAR
VERSION:2.0
PRODID:-//Goodwood Kartways - ECPv4.9.2//NONSGML v1.0//EN
CALSCALE:GREGORIAN
METHOD:PUBLISH
X-WR-CALNAME:Goodwood Kartways
X-ORIGINAL-URL:https://goodwoodkartways.com
X-WR-CALDESC:Events for Goodwood Kartways
BEGIN:VEVENT
DTSTART;TZID=America/Toronto:20241027T170000
DTEND;TZID=America/Toronto:20241027T183000
DTSTAMP:20260425T123856
CREATED:20241003T183606Z
LAST-MODIFIED:20241003T183606Z
UID:16812-1730048400-1730053800@goodwoodkartways.com
SUMMARY:Private Event
DESCRIPTION:Private Event 5PM-6:30PM \n
URL:https://goodwoodkartways.com/event/private-event-967/
CATEGORIES:6. PRIVATE GROUP EVENT
END:VEVENT
END:VCALENDAR