BEGIN:VCALENDAR
VERSION:2.0
PRODID:-//Goodwood Kartways - ECPv4.9.2//NONSGML v1.0//EN
CALSCALE:GREGORIAN
METHOD:PUBLISH
X-WR-CALNAME:Goodwood Kartways
X-ORIGINAL-URL:https://goodwoodkartways.com
X-WR-CALDESC:Events for Goodwood Kartways
BEGIN:VEVENT
DTSTART;TZID=America/Toronto:20241030T163000
DTEND;TZID=America/Toronto:20241030T183000
DTSTAMP:20260424T081257
CREATED:20241028T172356Z
LAST-MODIFIED:20241028T172910Z
UID:16925-1730305800-1730313000@goodwoodkartways.com
SUMMARY:Private-Event
DESCRIPTION:Private Event \n430pm-6:30pm \n
URL:https://goodwoodkartways.com/event/private-event-976/
CATEGORIES:6. PRIVATE GROUP EVENT
END:VEVENT
END:VCALENDAR