BEGIN:VCALENDAR
VERSION:2.0
PRODID:-//Goodwood Kartways - ECPv4.9.2//NONSGML v1.0//EN
CALSCALE:GREGORIAN
METHOD:PUBLISH
X-WR-CALNAME:Goodwood Kartways
X-ORIGINAL-URL:https://goodwoodkartways.com
X-WR-CALDESC:Events for Goodwood Kartways
BEGIN:VEVENT
DTSTART;TZID=America/Toronto:20241103T100000
DTEND;TZID=America/Toronto:20241103T110000
DTSTAMP:20260421T111235
CREATED:20241028T173023Z
LAST-MODIFIED:20241103T132328Z
UID:16927-1730628000-1730631600@goodwoodkartways.com
SUMMARY:Private-Event
DESCRIPTION:Private Event \n10am-11am \n
URL:https://goodwoodkartways.com/event/private-event-977/
CATEGORIES:6. PRIVATE GROUP EVENT
END:VEVENT
END:VCALENDAR