BEGIN:VCALENDAR
VERSION:2.0
PRODID:-//Goodwood Kartways - ECPv4.9.2//NONSGML v1.0//EN
CALSCALE:GREGORIAN
METHOD:PUBLISH
X-WR-CALNAME:Goodwood Kartways
X-ORIGINAL-URL:https://goodwoodkartways.com
X-WR-CALDESC:Events for Goodwood Kartways
BEGIN:VEVENT
DTSTART;TZID=America/Toronto:20241110T120000
DTEND;TZID=America/Toronto:20241110T133000
DTSTAMP:20260421T035317
CREATED:20241101T013830Z
LAST-MODIFIED:20241101T013830Z
UID:16941-1731240000-1731245400@goodwoodkartways.com
SUMMARY:Private Event
DESCRIPTION:Private Event 12PM-1:30PM \n
URL:https://goodwoodkartways.com/event/private-event-978-2/
CATEGORIES:6. PRIVATE GROUP EVENT
END:VEVENT
END:VCALENDAR