BEGIN:VCALENDAR
VERSION:2.0
PRODID:-//Goodwood Kartways - ECPv4.9.2//NONSGML v1.0//EN
CALSCALE:GREGORIAN
METHOD:PUBLISH
X-WR-CALNAME:Goodwood Kartways
X-ORIGINAL-URL:https://goodwoodkartways.com
X-WR-CALDESC:Events for Goodwood Kartways
BEGIN:VEVENT
DTSTART;TZID=America/Toronto:20241109T160000
DTEND;TZID=America/Toronto:20241109T173000
DTSTAMP:20260421T103630
CREATED:20241105T171545Z
LAST-MODIFIED:20241105T171545Z
UID:16947-1731168000-1731173400@goodwoodkartways.com
SUMMARY:Private Event
DESCRIPTION:Private Event 4PM-5:30PM \n
URL:https://goodwoodkartways.com/event/private-event-980/
CATEGORIES:6. PRIVATE GROUP EVENT
END:VEVENT
END:VCALENDAR