BEGIN:VCALENDAR
VERSION:2.0
PRODID:-//Goodwood Kartways - ECPv4.9.2//NONSGML v1.0//EN
CALSCALE:GREGORIAN
METHOD:PUBLISH
X-WR-CALNAME:Goodwood Kartways
X-ORIGINAL-URL:https://goodwoodkartways.com
X-WR-CALDESC:Events for Goodwood Kartways
BEGIN:VEVENT
DTSTART;TZID=America/Toronto:20241117T100000
DTEND;TZID=America/Toronto:20241117T150000
DTSTAMP:20260421T003541
CREATED:20241111T153147Z
LAST-MODIFIED:20241111T153147Z
UID:16949-1731837600-1731855600@goodwoodkartways.com
SUMMARY:Private-Event
DESCRIPTION:Private-Event 10- 3 \n
URL:https://goodwoodkartways.com/event/private-event-981/
CATEGORIES:6. PRIVATE GROUP EVENT
END:VEVENT
END:VCALENDAR