BEGIN:VCALENDAR
VERSION:2.0
PRODID:-//Goodwood Kartways - ECPv4.9.2//NONSGML v1.0//EN
CALSCALE:GREGORIAN
METHOD:PUBLISH
X-WR-CALNAME:Goodwood Kartways
X-ORIGINAL-URL:https://goodwoodkartways.com
X-WR-CALDESC:Events for Goodwood Kartways
BEGIN:VEVENT
DTSTART;TZID=America/Toronto:20250601T133000
DTEND;TZID=America/Toronto:20250601T150000
DTSTAMP:20260420T155916
CREATED:20250307T171639Z
LAST-MODIFIED:20250307T171639Z
UID:17121-1748784600-1748790000@goodwoodkartways.com
SUMMARY:Private Event
DESCRIPTION:Private Event 1:30PM-3PM \n
URL:https://goodwoodkartways.com/event/private-event-982-2-2-2-2-2/
CATEGORIES:6. PRIVATE GROUP EVENT
END:VEVENT
END:VCALENDAR