BEGIN:VCALENDAR
VERSION:2.0
PRODID:-//Goodwood Kartways - ECPv4.9.2//NONSGML v1.0//EN
CALSCALE:GREGORIAN
METHOD:PUBLISH
X-WR-CALNAME:Goodwood Kartways
X-ORIGINAL-URL:https://goodwoodkartways.com
X-WR-CALDESC:Events for Goodwood Kartways
BEGIN:VEVENT
DTSTART;TZID=America/Toronto:20250420T160000
DTEND;TZID=America/Toronto:20250420T173000
DTSTAMP:20260420T211249
CREATED:20250417T201604Z
LAST-MODIFIED:20250417T201604Z
UID:17210-1745164800-1745170200@goodwoodkartways.com
SUMMARY:Private Event
DESCRIPTION:Private Event 4-5:30PM \n
URL:https://goodwoodkartways.com/event/private-event-989/
CATEGORIES:6. PRIVATE GROUP EVENT
END:VEVENT
END:VCALENDAR