BEGIN:VCALENDAR
VERSION:2.0
PRODID:-//Goodwood Kartways - ECPv4.9.2//NONSGML v1.0//EN
CALSCALE:GREGORIAN
METHOD:PUBLISH
X-WR-CALNAME:Goodwood Kartways
X-ORIGINAL-URL:https://goodwoodkartways.com
X-WR-CALDESC:Events for Goodwood Kartways
BEGIN:VEVENT
DTSTART;TZID=America/Toronto:20250720T133000
DTEND;TZID=America/Toronto:20250720T150000
DTSTAMP:20260420T095809
CREATED:20250502T155826Z
LAST-MODIFIED:20250508T183037Z
UID:17273-1753018200-1753023600@goodwoodkartways.com
SUMMARY:Private Event
DESCRIPTION:Private Event 1PM-2:30PM \n
URL:https://goodwoodkartways.com/event/private-event-994-2/
CATEGORIES:6. PRIVATE GROUP EVENT
END:VEVENT
END:VCALENDAR