BEGIN:VCALENDAR
VERSION:2.0
PRODID:-//Goodwood Kartways - ECPv4.9.2//NONSGML v1.0//EN
CALSCALE:GREGORIAN
METHOD:PUBLISH
X-WR-CALNAME:Goodwood Kartways
X-ORIGINAL-URL:https://goodwoodkartways.com
X-WR-CALDESC:Events for Goodwood Kartways
BEGIN:VEVENT
DTSTART;TZID=America/Toronto:20250628T163000
DTEND;TZID=America/Toronto:20250628T180000
DTSTAMP:20260420T123933
CREATED:20250508T182948Z
LAST-MODIFIED:20250508T182948Z
UID:17331-1751128200-1751133600@goodwoodkartways.com
SUMMARY:Private Event
DESCRIPTION:Private Event 4:30PM-6:00PM \n
URL:https://goodwoodkartways.com/event/private-event-995/
CATEGORIES:6. PRIVATE GROUP EVENT
END:VEVENT
END:VCALENDAR