BEGIN:VCALENDAR
VERSION:2.0
PRODID:-//Goodwood Kartways - ECPv4.9.2//NONSGML v1.0//EN
CALSCALE:GREGORIAN
METHOD:PUBLISH
X-WR-CALNAME:Goodwood Kartways
X-ORIGINAL-URL:https://goodwoodkartways.com
X-WR-CALDESC:Events for Goodwood Kartways
BEGIN:VEVENT
DTSTART;TZID=America/Toronto:20250604T173000
DTEND;TZID=America/Toronto:20250604T190000
DTSTAMP:20260420T141912
CREATED:20250515T130800Z
LAST-MODIFIED:20250515T130800Z
UID:17342-1749058200-1749063600@goodwoodkartways.com
SUMMARY:Private Event
DESCRIPTION:Private Event 5:30PM-7PM \n
URL:https://goodwoodkartways.com/event/private-event-997/
CATEGORIES:6. PRIVATE GROUP EVENT
END:VEVENT
END:VCALENDAR