BEGIN:VCALENDAR
VERSION:2.0
PRODID:-//Goodwood Kartways - ECPv4.9.2//NONSGML v1.0//EN
CALSCALE:GREGORIAN
METHOD:PUBLISH
X-WR-CALNAME:Goodwood Kartways
X-ORIGINAL-URL:https://goodwoodkartways.com
X-WR-CALDESC:Events for Goodwood Kartways
BEGIN:VEVENT
DTSTART;TZID=America/Toronto:20250531T160000
DTEND;TZID=America/Toronto:20250531T173000
DTSTAMP:20260420T173903
CREATED:20250522T151236Z
LAST-MODIFIED:20250522T151458Z
UID:17360-1748707200-1748712600@goodwoodkartways.com
SUMMARY:Private Event
DESCRIPTION:Private Event 4PM-5:30PM \n
URL:https://goodwoodkartways.com/event/private-event-998-2/
CATEGORIES:6. PRIVATE GROUP EVENT
END:VEVENT
END:VCALENDAR