BEGIN:VCALENDAR
VERSION:2.0
PRODID:-//Goodwood Kartways - ECPv4.9.2//NONSGML v1.0//EN
CALSCALE:GREGORIAN
METHOD:PUBLISH
X-WR-CALNAME:Goodwood Kartways
X-ORIGINAL-URL:https://goodwoodkartways.com
X-WR-CALDESC:Events for Goodwood Kartways
BEGIN:VEVENT
DTSTART;TZID=America/Toronto:20250625T150000
DTEND;TZID=America/Toronto:20250625T163000
DTSTAMP:20260420T173839
CREATED:20250529T143042Z
LAST-MODIFIED:20250529T143042Z
UID:17369-1750863600-1750869000@goodwoodkartways.com
SUMMARY:Private Event
DESCRIPTION:Private Event 3PM-4:30PM \n
URL:https://goodwoodkartways.com/event/private-event-999/
CATEGORIES:6. PRIVATE GROUP EVENT
END:VEVENT
END:VCALENDAR