BEGIN:VCALENDAR
VERSION:2.0
PRODID:-//Goodwood Kartways - ECPv4.9.2//NONSGML v1.0//EN
CALSCALE:GREGORIAN
METHOD:PUBLISH
X-WR-CALNAME:Goodwood Kartways
X-ORIGINAL-URL:https://goodwoodkartways.com
X-WR-CALDESC:Events for Goodwood Kartways
BEGIN:VEVENT
DTSTART;TZID=UTC+0:20240913T100000
DTEND;TZID=UTC+0:20240913T180000
DTSTAMP:20260425T152647
CREATED:20240913T083049Z
LAST-MODIFIED:20240913T083049Z
UID:16753-1726221600-1726250400@goodwoodkartways.com
SUMMARY:Private Lapping
DESCRIPTION:Private Lapping for all private kart owners. \n  \n
URL:https://goodwoodkartways.com/event/private-lapping-63-2-2-3-2-2-2-3/
CATEGORIES:3. KART OWNER RACING
END:VEVENT
END:VCALENDAR