BEGIN:VCALENDAR
VERSION:2.0
PRODID:-//Goodwood Kartways - ECPv4.9.2//NONSGML v1.0//EN
CALSCALE:GREGORIAN
METHOD:PUBLISH
X-WR-CALNAME:Goodwood Kartways
X-ORIGINAL-URL:https://goodwoodkartways.com
X-WR-CALDESC:Events for Goodwood Kartways
BEGIN:VEVENT
DTSTART;TZID=UTC+0:20250418T100000
DTEND;TZID=UTC+0:20250418T190000
DTSTAMP:20260421T003112
CREATED:20250401T170950Z
LAST-MODIFIED:20250401T170950Z
UID:17171-1744970400-1745002800@goodwoodkartways.com
SUMMARY:Private Lapping
DESCRIPTION:Private Lapping for all private kart owners. \n  \n
URL:https://goodwoodkartways.com/event/private-lapping-63-2-2-3-2-2-2-4-2-2-2-2-2-2/
CATEGORIES:3. KART OWNER RACING
END:VEVENT
END:VCALENDAR