BEGIN:VCALENDAR
VERSION:2.0
PRODID:-//Goodwood Kartways - ECPv4.9.2//NONSGML v1.0//EN
CALSCALE:GREGORIAN
METHOD:PUBLISH
X-WR-CALNAME:Goodwood Kartways
X-ORIGINAL-URL:https://goodwoodkartways.com
X-WR-CALDESC:Events for Goodwood Kartways
BEGIN:VEVENT
DTSTART;TZID=UTC+0:20240802T100000
DTEND;TZID=UTC+0:20240802T160000
DTSTAMP:20260424T170215
CREATED:20240729T160521Z
LAST-MODIFIED:20240729T160827Z
UID:16657-1722592800-1722614400@goodwoodkartways.com
SUMMARY:Private Lapping
DESCRIPTION:Private Lapping for all private kart owners. \n  \n
URL:https://goodwoodkartways.com/event/private-lapping-63-2-2-3-3/
CATEGORIES:3. KART OWNER RACING
END:VEVENT
END:VCALENDAR