BEGIN:VCALENDAR
VERSION:2.0
PRODID:-//Goodwood Kartways - ECPv4.9.2//NONSGML v1.0//EN
CALSCALE:GREGORIAN
METHOD:PUBLISH
X-WR-CALNAME:Goodwood Kartways
X-ORIGINAL-URL:https://goodwoodkartways.com
X-WR-CALDESC:Events for Goodwood Kartways
BEGIN:VEVENT
DTSTART;TZID=America/Toronto:20251009T100000
DTEND;TZID=America/Toronto:20251009T160000
DTSTAMP:20260421T102408
CREATED:20251006T174114Z
LAST-MODIFIED:20251006T174315Z
UID:17669-1760004000-1760025600@goodwoodkartways.com
SUMMARY:Kart Owner Lapping
DESCRIPTION:Kart Owner Lapping 10am-4pm \n
URL:https://goodwoodkartways.com/event/private-lapping-67-2-2-2-2-2-2-3-3-2-2-3-2-2-5/
CATEGORIES:4. KART OWNER LAPPING
END:VEVENT
END:VCALENDAR