BEGIN:VCALENDAR
VERSION:2.0
PRODID:-//Goodwood Kartways - ECPv4.9.2//NONSGML v1.0//EN
CALSCALE:GREGORIAN
METHOD:PUBLISH
X-WR-CALNAME:Goodwood Kartways
X-ORIGINAL-URL:https://goodwoodkartways.com
X-WR-CALDESC:Events for Goodwood Kartways
BEGIN:VEVENT
DTSTART;TZID=America/Toronto:20250704T100000
DTEND;TZID=America/Toronto:20250704T190000
DTSTAMP:20260420T025934
CREATED:20250618T152923Z
LAST-MODIFIED:20250707T143947Z
UID:17418-1751623200-1751655600@goodwoodkartways.com
SUMMARY:Kart Owner Lapping
DESCRIPTION:Kart Owner Lapping 10am-7pm \n
URL:https://goodwoodkartways.com/event/private-lapping-67-2-2-2-2-2-2-3-3/
CATEGORIES:4. KART OWNER LAPPING
END:VEVENT
END:VCALENDAR